BEGIN:VCALENDAR
VERSION:2.0
PRODID:-//wp-events-plugin.com//7.0.5//EN
BEGIN:VEVENT
UID:97@cecbll.cat
DTSTART:20251202T173000Z
DTEND:20251202T190000Z
DTSTAMP:20260129T120211Z
URL:https://www.cecbll.cat/events/1975-el-baix-llobregat-acte-dinici-de-la
 -13a-recerca-collectiva-del-cecbll/
SUMMARY:"1975. EL BAIX LLOBREGAT" Acte d’inici de la 13a Recerca Col·lec
 tiva del CECBLL
DESCRIPTION:La 13a Recerca Col·lectiva del Baix Llobregat té per objectiu
  esbrinar els principals problemes de la comarca l’any 1975 i quins eren
  els actors\, grups i moviments que intentaven abordar-los.\nConferència 
 “1975. El Baix Llobregat” a càrrec de Joan Botella\, catedràtic de c
 iències polítiques per la UAB\, i director de la 13a recerca col·lectiv
 a del CECBLL.\nL’acte comptarà amb les intervencions de Rafa Bellido\, 
 que explicarà els canvis en el territori l’any 1975\, l’evolució del
  món industrial de la comarca en detriment de l’agricultura\; Conxita S
 ánchez\, que tractarà els diversos moviments socials dels anys setanta\;
  i Marta Espona que ens parlarà sobre el foment de la cultura i la llengu
 a catalana en aquest període.
ATTACH;FMTTYPE=image/jpeg:https://www.cecbll.cat/wp-content/uploads/2025/1
 1/13A-rECERCA-eXILI-baix.png
END:VEVENT
END:VCALENDAR