BEGIN:VCALENDAR
VERSION:2.0
PRODID:-//wp-events-plugin.com//7.0.5//EN
BEGIN:VEVENT
UID:119@cecbll.cat
DTSTART:20260506T110000Z
DTEND:20260506T123000Z
DTSTAMP:20260423T113022Z
URL:https://www.cecbll.cat/events/acte-de-presentacio-dels-13ns-premis-de-
 reconeixement-cultural-del-baix-llobregat/
SUMMARY:Acte de presentació dels 13ns Premis de Reconeixement Cultural del
  Baix Llobregat
DESCRIPTION:
CATEGORIES:#PremisCECBLL
LOCATION:Citilab\, Plaça de Can Surís\, s/n\, Cornellà de Llobregat\, Es
 panya
X-APPLE-STRUCTURED-LOCATION;VALUE=URI;X-ADDRESS=Plaça de Can Surís\, s/n\
 , Cornellà de Llobregat\, Espanya;X-APPLE-RADIUS=100;X-TITLE=Citilab:geo:
 0,0
END:VEVENT
END:VCALENDAR