BEGIN:VCALENDAR
VERSION:2.0
PRODID:-//wp-events-plugin.com//7.0.5//EN
BEGIN:VEVENT
UID:3@cecbll.cat
DTSTART:20240207T090000Z
DTEND:20240315T200000Z
DTSTAMP:20240227T091434Z
URL:https://www.cecbll.cat/events/exposicio-on-son-85-anys-dexhumacions-de
 -fosses-comunes-de-la-guerra-civil-a-catalunya/
SUMMARY:Exposició "On Són? 85 Anys d’Exhumacions de Fosses Comunes de 
 la Guerra Civil a Catalunya"
DESCRIPTION:A la seu del CECBLL\, fins el 15 de març.
CATEGORIES:Exposicions
LOCATION:Seu del CECBLL\, Carrer Estelí\, 10\, 12\, 08980 Sant Feliu de Ll
 obregat\, Barcelona\, Sant Feliu de Llobregat\, Baix Llobregat\, 08980\, E
 spanya
X-APPLE-STRUCTURED-LOCATION;VALUE=URI;X-ADDRESS=Carrer Estelí\, 10\, 12\, 
 08980 Sant Feliu de Llobregat\, Barcelona\, Sant Feliu de Llobregat\, Baix
  Llobregat\, 08980\, Espanya;X-APPLE-RADIUS=100;X-TITLE=Seu del CECBLL:geo
 :0,0
END:VEVENT
END:VCALENDAR