BEGIN:VCALENDAR
VERSION:2.0
PRODID:-//wp-events-plugin.com//7.0.5//EN
BEGIN:VEVENT
UID:95@cecbll.cat
DTSTART:20260516T093000Z
DTEND:20260516T120000Z
DTSTAMP:20251118T182541Z
URL:https://www.cecbll.cat/events/la-mort-a-la-prehistoria-coves-i-dolmens
 /
SUMMARY:La mort a la prehistòria. Coves i dolmens.
DESCRIPTION:El protocol de seguretat de la cova de Can Sadurní no accepta 
 l’entrada de més de 25 persones alhora. Per això farem dos grups amb r
 ecorreguts inversos.\nEl primer farà el recorregut Punt de trobada-Dolmen
  d’Ardenya-Cova de can Sadurní-Punt de trobada i el segon farà el reco
 rregut invers.\nL’objectiu inicial de l’itinerari és copsar les difer
 ències en els tipus d’enterraments/inhumacions entre les diferents cult
 ures prehistòriques del que s’anomena Prehistòria Recent. Veurem dues 
 menes de jaciment (dolmen i cova) i tres menes d’inhumació: dipòsit\, 
 enterrament i incineració.\n\nRecomanacions o limitacions per fer l’iti
 nerari: Quan recorrem el Camí Fariner de Begues a Vallirana\, l’empedra
 t està en un estat força deficient. Cal dur un calçat adequat a caminar
  per muntanya. El Parc Natural de Garraf\, disposa d’un Servei que ajuda
  a pujar a persones en situació de deficiència motriu o amb minusvàlues
  a la cova de can Sadurní per tal que la puguin visitar\, fent-ne la dema
 nda amb antelació. El servei és gratuït.
CATEGORIES:Racons del Baix
END:VEVENT
END:VCALENDAR