BEGIN:VCALENDAR
VERSION:2.0
PRODID:-//wp-events-plugin.com//7.0.5//EN
BEGIN:VEVENT
UID:96@cecbll.cat
DTSTART:20260530T083000Z
DTEND:20260530T120000Z
DTSTAMP:20251118T182845Z
URL:https://www.cecbll.cat/events/natura-i-cultura-passeig-per-les-muntany
 es-de-torrelles-de-llobregat/
SUMMARY:Natura i Cultura. Passeig per les muntanyes de Torrelles de Llobreg
 at .
DESCRIPTION:En aquesta activitat es farà un recorregut circular per una pa
 rt del terme municipal de Torrelles. S’explicaran qüestions relacionade
 s amb la geologia\, la natura i l’explotació del territori al llarg de 
 la història. Es visitaran espais i llocs relacionats amb l’ocupació hu
 mana de l’espai i la seva explotació. Posarem un especial èmfasi en la
  evolució del paisatge natural i cultural i la seva importància dins de 
 la comarca del Baix Llobregat així com les amenaces a que està sotmès.\
 nEs visitaran\, entre d’altres:\n- Aflorament geològic del camí del Ce
 mentiri\n- Barraca de Cal Mixerris\n- Creu de Sant Pau\n- Serra de Mossèn
  Corbera\n- Penyes i Coves de Can Riera o de Can Mas\n- Masia de Can Mas\n
 - Raval Mas\nRecomanacions o limitacions per fer l’itinerari: Itinerari 
 per camins de muntanya. S’aconsella portar calçat adequat i aigua. Algu
 n dels punts visitables pot presentar alguna dificultat per a persones amb
  problemes de mobilitat
CATEGORIES:Racons del Baix
END:VEVENT
END:VCALENDAR