BEGIN:VCALENDAR
VERSION:2.0
PRODID:-//wp-events-plugin.com//7.0.5//EN
BEGIN:VEVENT
UID:115@cecbll.cat
DTSTART:20260307T163000Z
DTEND:20260307T180000Z
DTSTAMP:20260302T102332Z
URL:https://www.cecbll.cat/events/presentacio-del-llibre-elles-teixidores-
 de-vida-esparreguerina-i-de-lexperiencia-pedagogica-teixint-vincles/
SUMMARY:PRESENTACIÓ DEL LLIBRE “ELLES. TEIXIDORES DE VIDA ESPARREGUERINA
 ” I DE L’EXPERIÈNCIA PEDAGÒGICA  “TEIXINT VINCLES”
DESCRIPTION:A les 17:30 h al Museu de la Colònia Sedó d’Esparreguera (C
 arrer Continues\, s/n. Esparreguera)
LOCATION:Museu de la Colònia Sedó d'Esparreguera\, Carrer Contínues s/n\
 , Esparreguera\, Espanya
X-APPLE-STRUCTURED-LOCATION;VALUE=URI;X-ADDRESS=Carrer Contínues s/n\, Esp
 arreguera\, Espanya;X-APPLE-RADIUS=100;X-TITLE=Museu de la Colònia Sedó 
 d'Esparreguera:geo:0,0
END:VEVENT
END:VCALENDAR