BEGIN:VCALENDAR
VERSION:2.0
PRODID:-//wp-events-plugin.com//7.0.5//EN
BEGIN:VEVENT
UID:118@cecbll.cat
DTSTART:20260421T173000Z
DTEND:20260421T190000Z
DTSTAMP:20260414T142928Z
URL:https://www.cecbll.cat/events/presentacio-del-llibre-la-petjada-alimen
 taria-de-barcelona/
SUMMARY:Presentació del llibre "La petjada alimentària de Barcelona"
DESCRIPTION:Alimentar Barcelona des de la Perifèria. Presentació a càrre
 c de Mercè Renom\, M. Luz Retuerta\, Maria Soler i Jordi Planas.\n\n&nbsp
 \;\n\nA Gemma Tribó\, in memoriam
CATEGORIES:Presentació de llibre
LOCATION:Arxiu Comarcal del Baix Llobregat\, Carrer Clementina Arderiu\, 23
 \, Sant Feliu de Llobregat\, Espanya
X-APPLE-STRUCTURED-LOCATION;VALUE=URI;X-ADDRESS=Carrer Clementina Arderiu\,
  23\, Sant Feliu de Llobregat\, Espanya;X-APPLE-RADIUS=100;X-TITLE=Arxiu C
 omarcal del Baix Llobregat:geo:0,0
END:VEVENT
END:VCALENDAR