BEGIN:VCALENDAR
VERSION:2.0
PRODID:-//wp-events-plugin.com//7.0.5//EN
BEGIN:VEVENT
UID:40@cecbll.cat
DTSTART:20241105T180000Z
DTEND:20241105T193000Z
DTSTAMP:20241031T100211Z
URL:https://www.cecbll.cat/events/setmana-del-patrimoni-conferencia-la-nis
 saga-textil-dels-bertrand-la-fabrica-de-sant-feliu-de-llobregat/
SUMMARY:Setmana del Patrimoni: Conferència “La Nissaga tèxtil dels Bert
 rand: la fàbrica de Sant Feliu de Llobregat"
DESCRIPTION:A càrrec de Josep Padró Margo. A les 19h a l’Arxiu Comarcal
  del Baix Llobregat (Carrer Clementina Arderiu 23\, Sant Feliu de Llobrega
 t).
CATEGORIES:Acte
LOCATION:Arxiu Comarcal del Baix Llobregat\, Clementina Arderiu\, 23\, Sant
  Feliu de Llobregat\, Barcelona\, Espanya
X-APPLE-STRUCTURED-LOCATION;VALUE=URI;X-ADDRESS=Clementina Arderiu\, 23\, S
 ant Feliu de Llobregat\, Barcelona\, Espanya;X-APPLE-RADIUS=100;X-TITLE=Ar
 xiu Comarcal del Baix Llobregat:geo:0,0
END:VEVENT
END:VCALENDAR