BEGIN:VCALENDAR
VERSION:2.0
PRODID:-//wp-events-plugin.com//7.0.5//EN
BEGIN:VEVENT
UID:114@cecbll.cat
DTSTART:20260317T170000Z
DTEND:20260317T183000Z
DTSTAMP:20260304T080121Z
URL:https://www.cecbll.cat/events/trobada-informativa-de-la-13a-recerca-co
 llectiva-del-cecbll-1975-el-baix-llobregat/
SUMMARY:Trobada informativa de la 13a Recerca Col·lectiva del CECBLL “19
 75. El Baix Llobregat”
DESCRIPTION:
LOCATION:Seu del CECBLL\, Carrer Estelí\, 10\, Sant Feliu de Llobregat\, E
 spanya
X-APPLE-STRUCTURED-LOCATION;VALUE=URI;X-ADDRESS=Carrer Estelí\, 10\, Sant 
 Feliu de Llobregat\, Espanya;X-APPLE-RADIUS=100;X-TITLE=Seu del CECBLL:geo
 :0,0
END:VEVENT
END:VCALENDAR